BEGIN:VCALENDAR
VERSION:2.0
PRODID:-//ChamberMaster//Event Calendar 2.0//EN
METHOD:PUBLISH
X-PUBLISHED-TTL:P3D
REFRESH-INTERVAL:P3D
CALSCALE:GREGORIAN
BEGIN:VEVENT
DTSTART:20250503T140000Z
DTEND:20250503T160000Z
X-MICROSOFT-CDO-ALLDAYEVENT:FALSE
SUMMARY:19th Annual Community Prayer Breakfast
DESCRIPTION:Greenwood Mentor Center Community Prayer Breakfast
X-ALT-DESC;FMTTYPE=text/html:Greenwood Mentor Center Community Prayer Breakfast
LOCATION:The Andrew McQueen Jr Civic Center
UID:e.2769.563
SEQUENCE:3
DTSTAMP:20260422T214924Z
URL:https://business.greenwoodmschamber.com/events/details/19th-annual-community-prayer-breakfast-563
END:VEVENT

END:VCALENDAR
