BEGIN:VCALENDAR
VERSION:2.0
PRODID:-//ChamberMaster//Event Calendar 2.0//EN
METHOD:PUBLISH
X-PUBLISHED-TTL:P3D
REFRESH-INTERVAL:P3D
CALSCALE:GREGORIAN
BEGIN:VEVENT
DTSTART:20240502T180000Z
DTEND:20240502T230000Z
X-MICROSOFT-CDO-ALLDAYEVENT:FALSE
SUMMARY:2024 Greenwood-Leflore Chamber of Commerce LEAP Foundation Golf Scramble
DESCRIPTION:2024 Greenwood-Leflore\n\nChamber of Commerce\n\nLEAP Foundation Golf Scramble
X-ALT-DESC;FMTTYPE=text/html:<p style="text-align: center\;"><span style="font-size:20px\;"><big><span style="font-family:tahoma\;"><strong>2024&nbsp\;Greenwood-Leflore<br />\nChamber of Commerce<br />\nLEAP Foundation Golf Scramble&nbsp\;</strong></span></big></span></p>\n\n<div style="text-align: center\;">&nbsp\;</div>\n
LOCATION:Greenwood Country Club
UID:e.2769.506
SEQUENCE:3
DTSTAMP:20260425T234424Z
URL:https://business.greenwoodmschamber.com/events/details/2024-greenwood-leflore-chamber-of-commerce-leap-foundation-golf-scramble-506
END:VEVENT

END:VCALENDAR
