BEGIN:VCALENDAR
VERSION:2.0
PRODID:-//ChamberMaster//Event Calendar 2.0//EN
METHOD:PUBLISH
X-PUBLISHED-TTL:P3D
REFRESH-INTERVAL:P3D
CALSCALE:GREGORIAN
BEGIN:VEVENT
DTSTART:20250501T180000Z
DTEND:20250501T220000Z
X-MICROSOFT-CDO-ALLDAYEVENT:FALSE
SUMMARY:2025 Golf Scramble
DESCRIPTION:2025 Golf Scramble
X-ALT-DESC;FMTTYPE=text/html:<p style="text-align: center\;"><span style="font-size:20px\;"><big><span style="font-family:tahoma\;"><strong>2025 Golf Scramble</strong></span></big></span></p>\n
LOCATION:Greenwood Country Club
UID:e.2769.564
SEQUENCE:3
DTSTAMP:20260422T214833Z
URL:https://business.greenwoodmschamber.com/events/details/2025-golf-scramble-564
END:VEVENT

END:VCALENDAR
