BEGIN:VCALENDAR
VERSION:2.0
PRODID:-//ChamberMaster//Event Calendar 2.0//EN
METHOD:PUBLISH
X-PUBLISHED-TTL:P3D
REFRESH-INTERVAL:P3D
CALSCALE:GREGORIAN
BEGIN:VEVENT
DTSTART:20260212T233000Z
DTEND:20260213T023000Z
X-MICROSOFT-CDO-ALLDAYEVENT:FALSE
SUMMARY:2026 Chamber of Commerce Annual Meeting\, Business Expo and Taste of Greenwood
DESCRIPTION:Greenwood - Leflore County Chamber of Commerce\n\n2026 Chamber Honors\n\nAnnual Meeting\, Business Expo & Taste of Greenwood\n\n\n\nPresenting:\n\nSmall Business of the Year\n\nLarge Business of the Year\n\nAmbassador of the Year\n\nCommunity Pride Award\n\nRetailer/Restaurant of the Year\n\n\n\nOnline Registration has closed. \n\nPlease call our office at 662-453-4152\n\nif you need seats.
X-ALT-DESC;FMTTYPE=text/html:<div style="text-align: center\;"><strong><span style="font-family:times new roman\;"><span style="font-size:12px\;"><span style="font-size:14px\;"><em><span style="font-size:16px\;">Greenwood - Leflore County Chamber of Commerce</span></em><br />\n<span style="font-size:22px\;"><em>2026&nbsp\;Chamber Honors</em></span><br />\n<em><span style="font-size:16px\;">Annual Meeting\, Business Expo &amp\;&nbsp\;Taste of Greenwood<br />\n<br />\nPresenting:<br />\nSmall Business of the Year<br />\nLarge Business of the Year<br />\nAmbassador of the Year<br />\nCommunity Pride Award<br />\nRetailer/Restaurant of the Year</span></em></span></span></span></strong><br />\n<br />\n<span style="font-size:24px\;"><strong>Online Registration has closed.&nbsp\;<br />\nPlease call our office at 662-453-4152<br />\nif you need seats.</strong></span><br />\n<br />\n<br />\n&nbsp\;</div>\n
LOCATION:Leflore County Civic Center 200 Hwy 7 North\, Greenwood\, Ms.
UID:e.2769.1051
SEQUENCE:3
DTSTAMP:20260422T112506Z
URL:https://business.greenwoodmschamber.com/events/details/2026-chamber-of-commerce-annual-meeting-business-expo-and-taste-of-greenwood-1051
END:VEVENT

END:VCALENDAR
