BEGIN:VCALENDAR
VERSION:2.0
PRODID:-//ChamberMaster//Event Calendar 2.0//EN
METHOD:PUBLISH
X-PUBLISHED-TTL:P3D
REFRESH-INTERVAL:P3D
CALSCALE:GREGORIAN
BEGIN:VEVENT
DTSTART:20250607T120000Z
DTEND:20250607T160000Z
X-MICROSOFT-CDO-ALLDAYEVENT:FALSE
SUMMARY:2nd annual Fishing Rodeo
DESCRIPTION:This years Fishing Rodeo will include participation from organizer from MVSU. I am looking to have 200 kids participating. We will have plenty of fish\, food\, prizes and fun. We are expecting kids from surrounding areas. Church groups and other organizations are welcomed.
X-ALT-DESC;FMTTYPE=text/html:This years Fishing Rodeo will include participation from organizer from MVSU. I am looking to have 200 kids participating. We will have plenty of fish\, food\, prizes and fun. We are expecting kids from surrounding areas. Church groups and other organizations are welcomed.
LOCATION:Florewood Park in Leflore County
UID:e.2769.528
SEQUENCE:3
DTSTAMP:20260422T215153Z
URL:https://business.greenwoodmschamber.com/events/details/2nd-annual-fishing-rodeo-528
END:VEVENT

END:VCALENDAR
