BEGIN:VCALENDAR
VERSION:2.0
PRODID:-//ChamberMaster//Event Calendar 2.0//EN
METHOD:PUBLISH
X-PUBLISHED-TTL:P3D
REFRESH-INTERVAL:P3D
CALSCALE:GREGORIAN
BEGIN:VEVENT
DTSTART:20250920T130000Z
DTEND:20250920T170000Z
X-MICROSOFT-CDO-ALLDAYEVENT:FALSE
SUMMARY:300 OAKS Road Races
DESCRIPTION:The 300 Oaks Road Races will take place in Greenwood. Includes a 10K run\, 5K run\, 5K walk and a one-mile fun run for the kids. There's something for everyone! Registration opens in June. Post race party includes a cookout on the Yazoo River with grilled burgers and hot dogs\, cold drinks\, chips\, cookies.
X-ALT-DESC;FMTTYPE=text/html:The 300 Oaks Road Races will take place in Greenwood. Includes a 10K run\, 5K run\, 5K walk and a one-mile fun run for the kids. There&#39\;s something for everyone! Registration opens in June. Post race party includes a cookout on the Yazoo River with grilled burgers and hot dogs\, cold drinks\, chips\, cookies.
LOCATION:Begins and ends at the Park Between the Bridges
UID:e.2769.533
SEQUENCE:3
DTSTAMP:20260422T172154Z
URL:https://business.greenwoodmschamber.com/events/details/300-oaks-road-races-533
END:VEVENT

END:VCALENDAR
