BEGIN:VCALENDAR
VERSION:2.0
PRODID:-//ChamberMaster//Event Calendar 2.0//EN
METHOD:PUBLISH
X-PUBLISHED-TTL:P3D
REFRESH-INTERVAL:P3D
CALSCALE:GREGORIAN
BEGIN:VEVENT
DTSTART:20250802T120000Z
DTEND:20250802T190000Z
X-MICROSOFT-CDO-ALLDAYEVENT:FALSE
SUMMARY:Bikes\, Blues & Bayous Cycling Event
DESCRIPTION:Bikes\, Blues and Bayous Cycling Event features 4 distances through the fast\, alluvial plains of the Mississippi Delta. Featuring distances of 62\, 46\, 20 and 11 miles\, the course features rest stops along the way with live entertainment\, food and beverage options and Southern hospitality at its finest. The finish area also features live entertainment\, barbecue\, cold beverages and camraderie with other cyclists from across the country.
X-ALT-DESC;FMTTYPE=text/html:Bikes\, Blues and Bayous Cycling Event features 4 distances through the fast\, alluvial plains of the Mississippi Delta. Featuring distances of 62\, 46\, 20 and 11 miles\, the course features rest stops along the way with live entertainment\, food and beverage options and Southern hospitality at its finest. The finish area also features live entertainment\, barbecue\, cold beverages and camraderie with other cyclists from across the country.
LOCATION:Begins on Main Street in Downtown Greenwood
UID:e.2769.534
SEQUENCE:3
DTSTAMP:20260422T183619Z
URL:https://business.greenwoodmschamber.com/events/details/bikes-blues-bayous-cycling-event-534
END:VEVENT

END:VCALENDAR
