BEGIN:VCALENDAR
VERSION:2.0
PRODID:-//ChamberMaster//Event Calendar 2.0//EN
METHOD:PUBLISH
X-PUBLISHED-TTL:P3D
REFRESH-INTERVAL:P3D
CALSCALE:GREGORIAN
BEGIN:VEVENT
DTSTART:20250323T190000Z
DTEND:20250323T210000Z
X-MICROSOFT-CDO-ALLDAYEVENT:FALSE
SUMMARY:Caregivers Information Session Presented by Charlene Gressett\, MS CMHT Therapist and Catherine Kidd\, LCSW
DESCRIPTION:Informational meeting for anyone who is currently or has been a caregiver.
X-ALT-DESC;FMTTYPE=text/html:Informational meeting for anyone who is currently or has been a caregiver.
LOCATION:Locus Benedictus 1407 Levee Rd. Greenwood\, MS 38930
UID:e.2769.547
SEQUENCE:3
DTSTAMP:20260425T122547Z
URL:https://business.greenwoodmschamber.com/events/details/caregivers-information-session-presented-by-charlene-gressett-ms-cmht-therapist-and-catherine-kidd-lcsw-547
END:VEVENT

END:VCALENDAR
