BEGIN:VCALENDAR
VERSION:2.0
PRODID:-//ChamberMaster//Event Calendar 2.0//EN
METHOD:PUBLISH
X-PUBLISHED-TTL:P3D
REFRESH-INTERVAL:P3D
CALSCALE:GREGORIAN
BEGIN:VEVENT
DTSTART:20260205T160000Z
DTEND:20260205T170000Z
X-MICROSOFT-CDO-ALLDAYEVENT:FALSE
SUMMARY:Caregivers Support Group
DESCRIPTION:Support group for current or past caregivers
X-ALT-DESC;FMTTYPE=text/html:Support group for current or past caregivers
LOCATION:Locus Benedictus Retreat Center 1407 Levee Rd. Greenwood\, MS 38930
UID:e.2769.833
SEQUENCE:3
DTSTAMP:20260422T111922Z
URL:https://business.greenwoodmschamber.com/events/details/caregivers-support-group-02-05-2026-833
END:VEVENT

END:VCALENDAR
