BEGIN:VCALENDAR
VERSION:2.0
PRODID:-//ChamberMaster//Event Calendar 2.0//EN
METHOD:PUBLISH
X-PUBLISHED-TTL:P3D
REFRESH-INTERVAL:P3D
CALSCALE:GREGORIAN
BEGIN:VEVENT
DTSTART:20250320T150000Z
DTEND:20250320T160000Z
X-MICROSOFT-CDO-ALLDAYEVENT:FALSE
SUMMARY:Caregivers Support Group
DESCRIPTION:Support Group for Current Caregivers or those who have been caregivers in the past.
X-ALT-DESC;FMTTYPE=text/html:Support Group for Current Caregivers or those who have been caregivers in the past.
LOCATION:Locus Benedictus Retreat Center 1407 Levee Rd. Greenwood\, MS 38930
UID:e.2769.556
SEQUENCE:3
DTSTAMP:20260425T122500Z
URL:https://business.greenwoodmschamber.com/events/details/caregivers-support-group-03-20-2025-556
END:VEVENT

END:VCALENDAR
