BEGIN:VCALENDAR
VERSION:2.0
PRODID:-//ChamberMaster//Event Calendar 2.0//EN
METHOD:PUBLISH
X-PUBLISHED-TTL:P3D
REFRESH-INTERVAL:P3D
CALSCALE:GREGORIAN
BEGIN:VEVENT
DTSTART:20250424T150000Z
DTEND:20250424T160000Z
X-MICROSOFT-CDO-ALLDAYEVENT:FALSE
SUMMARY:Caregivers Support Group
DESCRIPTION:Caregivers Meet to Discuss their Week
X-ALT-DESC;FMTTYPE=text/html:Caregivers Meet to Discuss their Week
LOCATION:Locus Benedictus 1407 Levee Rd. Greenwood\, MS 38930
UID:e.2769.569
SEQUENCE:3
DTSTAMP:20260422T230517Z
URL:https://business.greenwoodmschamber.com/events/details/caregivers-support-group-04-24-2025-569
END:VEVENT

END:VCALENDAR
