BEGIN:VCALENDAR
VERSION:2.0
PRODID:-//ChamberMaster//Event Calendar 2.0//EN
METHOD:PUBLISH
X-PUBLISHED-TTL:P3D
REFRESH-INTERVAL:P3D
CALSCALE:GREGORIAN
BEGIN:VEVENT
DTSTART:20250501T150000Z
DTEND:20250501T160000Z
X-MICROSOFT-CDO-ALLDAYEVENT:FALSE
SUMMARY:Caregivers Support Group
DESCRIPTION:Support group for those who are currently caregivers or who have been caregivers in the past.
X-ALT-DESC;FMTTYPE=text/html:Support group for those who are currently caregivers or who have been caregivers in the past.
LOCATION:Locus Benedictus Retreat Center 1407 Levee Rd. Greenwood\, MS 38930
UID:e.2769.584
SEQUENCE:3
DTSTAMP:20260422T215020Z
URL:https://business.greenwoodmschamber.com/events/details/caregivers-support-group-05-01-2025-584
END:VEVENT

END:VCALENDAR
