BEGIN:VCALENDAR
VERSION:2.0
PRODID:-//ChamberMaster//Event Calendar 2.0//EN
METHOD:PUBLISH
X-PUBLISHED-TTL:P3D
REFRESH-INTERVAL:P3D
CALSCALE:GREGORIAN
BEGIN:VEVENT
DTSTART:20250809T230000Z
DTEND:20250810T040000Z
X-MICROSOFT-CDO-ALLDAYEVENT:FALSE
SUMMARY:Cocktails\, Caftans\, & Comedy
DESCRIPTION:COCKTAILS CAFTANS & COMEDY SAVE THE DATE GRAB YOUR CREW BOOK YOUR ROOMS BUY YOUR TICKETS & WE WILLHANDLE THE REST.
X-ALT-DESC;FMTTYPE=text/html:COCKTAILS CAFTANS &amp\; COMEDY SAVE THE DATE GRAB YOUR CREW BOOK YOUR ROOMS BUY YOUR TICKETS &amp\; WE WILLHANDLE THE REST.
LOCATION:The Alluvian
UID:e.2769.1013
SEQUENCE:3
DTSTAMP:20260422T193209Z
URL:https://business.greenwoodmschamber.com/events/details/cocktails-caftans-comedy-1013
END:VEVENT

END:VCALENDAR
