BEGIN:VCALENDAR
VERSION:2.0
PRODID:-//ChamberMaster//Event Calendar 2.0//EN
METHOD:PUBLISH
X-PUBLISHED-TTL:P3D
REFRESH-INTERVAL:P3D
CALSCALE:GREGORIAN
BEGIN:VEVENT
DTSTART:20250529T200000Z
DTEND:20250529T220000Z
X-MICROSOFT-CDO-ALLDAYEVENT:FALSE
SUMMARY:Community Baby Shower
DESCRIPTION:Delta Health Alliance Home Visiting Initiative will host a Community Baby Shower focused on maternal health education and healthy pregnancies. The event will feature a variety of vendors and essential baby supplies to support expecting and new parents.
X-ALT-DESC;FMTTYPE=text/html:Delta Health Alliance Home Visiting Initiative will host a Community Baby Shower focused on maternal health education and healthy pregnancies. The event will feature a variety of vendors and essential baby supplies to support expecting and new parents.
LOCATION:Greenwood Chamber of Commerce
UID:e.2769.552
SEQUENCE:3
DTSTAMP:20260422T214925Z
URL:https://business.greenwoodmschamber.com/events/details/community-baby-shower-552
END:VEVENT

END:VCALENDAR
