BEGIN:VCALENDAR
VERSION:2.0
PRODID:-//ChamberMaster//Event Calendar 2.0//EN
METHOD:PUBLISH
X-PUBLISHED-TTL:P3D
REFRESH-INTERVAL:P3D
CALSCALE:GREGORIAN
BEGIN:VEVENT
DTSTART;VALUE=DATE:20250603
DTEND;VALUE=DATE:20250604
TRANSP:TRANSPARENT
X-MICROSOFT-CDO-ALLDAYEVENT:TRUE
SUMMARY:Create with Canva Workshop
DESCRIPTION:Rescheduled date:\n\nTuesday\, June 3rd\n\nCanva Basics (beginner) 9a to 12P\n\nCanva Pro   1:30p to 4:30p\n\n\n\nPlease specify which class you prefer when registering.
X-ALT-DESC;FMTTYPE=text/html:<span style="font-size:36px\;"><strong>Rescheduled date:<br />\nTuesday\, June 3rd<br />\nCanva Basics (beginner) 9a to 12P<br />\nCanva Pro&nbsp\; &nbsp\;1:30p to 4:30p<br />\n<br />\nPlease specify which class you prefer when registering.</strong></span><br />\n&nbsp\;
LOCATION:Greenwood Leflore Chamber of Commerce 402 Hwy 82 (Frontage Road)
UID:e.2769.582
SEQUENCE:3
DTSTAMP:20260422T204505Z
URL:https://business.greenwoodmschamber.com/events/details/create-with-canva-workshop-582
END:VEVENT

END:VCALENDAR
