BEGIN:VCALENDAR
VERSION:2.0
PRODID:-//ChamberMaster//Event Calendar 2.0//EN
METHOD:PUBLISH
X-PUBLISHED-TTL:P3D
REFRESH-INTERVAL:P3D
CALSCALE:GREGORIAN
BEGIN:VEVENT
DTSTART:20250308T140000Z
DTEND:20250308T210000Z
X-MICROSOFT-CDO-ALLDAYEVENT:FALSE
SUMMARY:Crossroads Cruiser Cannon Motors Car Show
DESCRIPTION:Classic cars\, late model and vintage muscle cars. Music and food vendors on site. Event is held at Cannon Motors\, 69900 Hwy 82\, Greenwood MS. For more information call David Jenkins 662-299-3215
X-ALT-DESC;FMTTYPE=text/html:Classic cars\, late model and vintage muscle cars. Music and food vendors on site. Event is held at Cannon Motors\, 69900 Hwy 82\, Greenwood MS. For more information call David Jenkins 662-299-3215
LOCATION:Cannon Motors\, 69900 Hwy 82\, Greenwood MS 38930
UID:e.2769.548
SEQUENCE:3
DTSTAMP:20260425T122552Z
URL:https://business.greenwoodmschamber.com/events/details/crossroads-cruiser-cannon-motors-car-show-548
END:VEVENT

END:VCALENDAR
