BEGIN:VCALENDAR
VERSION:2.0
PRODID:-//ChamberMaster//Event Calendar 2.0//EN
METHOD:PUBLISH
X-PUBLISHED-TTL:P3D
REFRESH-INTERVAL:P3D
CALSCALE:GREGORIAN
BEGIN:VEVENT
DTSTART:20251213T160000Z
DTEND:20251213T200000Z
X-MICROSOFT-CDO-ALLDAYEVENT:FALSE
SUMMARY:Delta Dickens Christmas
DESCRIPTION:
X-ALT-DESC;FMTTYPE=text/html:
LOCATION:
UID:e.2769.1022
SEQUENCE:3
DTSTAMP:20260422T134603Z
URL:https://business.greenwoodmschamber.com/events/details/delta-dickens-christmas-1022
END:VEVENT

END:VCALENDAR
