BEGIN:VCALENDAR
VERSION:2.0
PRODID:-//ChamberMaster//Event Calendar 2.0//EN
METHOD:PUBLISH
X-PUBLISHED-TTL:P3D
REFRESH-INTERVAL:P3D
CALSCALE:GREGORIAN
BEGIN:VEVENT
DTSTART:20250804T150000Z
DTEND:20250804T230000Z
X-MICROSOFT-CDO-ALLDAYEVENT:FALSE
SUMMARY:Depaul USA Fish Fry Fundraiser
DESCRIPTION:Larry's Fish House Fundraiser Make a plate to support women's transition out of incarceration.
X-ALT-DESC;FMTTYPE=text/html:Larry&#39\;s Fish House Fundraiser Make a plate to support women&#39\;s transition out of incarceration.
LOCATION:North Greenwood Baptist Church Parking Lot
UID:e.2769.1015
SEQUENCE:3
DTSTAMP:20260422T183604Z
URL:https://business.greenwoodmschamber.com/events/details/depaul-usa-fish-fry-fundraiser-1015
END:VEVENT

END:VCALENDAR
