BEGIN:VCALENDAR
VERSION:2.0
PRODID:-//ChamberMaster//Event Calendar 2.0//EN
METHOD:PUBLISH
X-PUBLISHED-TTL:P3D
REFRESH-INTERVAL:P3D
CALSCALE:GREGORIAN
BEGIN:VEVENT
DTSTART;VALUE=DATE:20250530
DTEND;VALUE=DATE:20250601
TRANSP:TRANSPARENT
X-MICROSOFT-CDO-ALLDAYEVENT:TRUE
SUMMARY:Dinkin' in the Delta
DESCRIPTION:The fourth annual Dinkin' in the Delta pickleball tournament will be held May 30-31 at the Twin Rivers Recreation Facility indoor courts. The tournament will be for mixed doubles\, which will start on May 30\, and men's and women's doubles on May 31.
X-ALT-DESC;FMTTYPE=text/html:The fourth annual Dinkin&rsquo\; in the Delta pickleball tournament will be held May 30-31 at the Twin Rivers Recreation Facility indoor courts. The tournament will be for mixed doubles\, which will start on May 30\, and men&rsquo\;s and women&rsquo\;s doubles on May 31.
LOCATION:Twin Rivers
UID:e.2769.1001
SEQUENCE:3
DTSTAMP:20260422T215043Z
URL:https://business.greenwoodmschamber.com/events/details/dinkin-in-the-delta-1001
END:VEVENT

END:VCALENDAR
