BEGIN:VCALENDAR
VERSION:2.0
PRODID:-//ChamberMaster//Event Calendar 2.0//EN
METHOD:PUBLISH
X-PUBLISHED-TTL:P3D
REFRESH-INTERVAL:P3D
CALSCALE:GREGORIAN
BEGIN:VEVENT
DTSTART:20250531T123000Z
DTEND:20250531T163000Z
X-MICROSOFT-CDO-ALLDAYEVENT:FALSE
SUMMARY:Downtown Greenwood Farmers Market
DESCRIPTION:The Downtown Greenwood Farmers Market will open for the season! Local vendors\, artisans and growers will have a variety of goods\, including local produce\, baked and canned goods\, honey\, eggs\, and more. For vendor information\, call 662.453.4152
X-ALT-DESC;FMTTYPE=text/html:The Downtown Greenwood Farmers Market will open for the season! Local vendors\, artisans and growers will have a variety of goods\, including local produce\, baked and canned goods\, honey\, eggs\, and more. For vendor information\, call 662.453.4152
LOCATION:Railspike Park Pavilion\, corner of Johnson and Main Street\, Downtown Greenwood
UID:e.2769.532
SEQUENCE:3
DTSTAMP:20260422T215405Z
URL:https://business.greenwoodmschamber.com/events/details/downtown-greenwood-farmers-market-532
END:VEVENT

END:VCALENDAR
