BEGIN:VCALENDAR
VERSION:2.0
PRODID:-//ChamberMaster//Event Calendar 2.0//EN
METHOD:PUBLISH
X-PUBLISHED-TTL:P3D
REFRESH-INTERVAL:P3D
CALSCALE:GREGORIAN
BEGIN:VEVENT
DTSTART:20250719T150000Z
DTEND:20250719T190000Z
X-MICROSOFT-CDO-ALLDAYEVENT:FALSE
SUMMARY:Drive Through Prayer
DESCRIPTION:Immanuel Baptist Church\, 916 Medallion Dr.\, Greenwood\, MS will host a Community Drive Through Time of Prayer. We invite any and all in our community to come by with requests for prayer. Every prayer request will remain confidential.
X-ALT-DESC;FMTTYPE=text/html:Immanuel Baptist Church\, 916 Medallion Dr.\, Greenwood\, MS will host a Community Drive Through Time of Prayer. We invite any and all in our community to come by with requests for prayer. Every prayer request will remain confidential.
LOCATION:Immanuel Baptist Church 916 Medallion Dr. Greenwood\, MS 38930 (662) 453-8242
UID:e.2769.1014
SEQUENCE:3
DTSTAMP:20260422T193127Z
URL:https://business.greenwoodmschamber.com/events/details/drive-through-prayer-1014
END:VEVENT

END:VCALENDAR
