BEGIN:VCALENDAR
VERSION:2.0
PRODID:-//ChamberMaster//Event Calendar 2.0//EN
METHOD:PUBLISH
X-PUBLISHED-TTL:P3D
REFRESH-INTERVAL:P3D
CALSCALE:GREGORIAN
BEGIN:VEVENT
DTSTART:20251018T130000Z
DTEND:20251018T200000Z
X-MICROSOFT-CDO-ALLDAYEVENT:FALSE
SUMMARY:Driving the Delta Vintage Car Show
DESCRIPTION:Driving the Delta Vintage Car Show \n\n\n\nOpen to all makes and models of cars\, trucks\, racecars\, and motorcycles
X-ALT-DESC;FMTTYPE=text/html:Driving the Delta Vintage Car Show&nbsp\;<br />\n<br />\nOpen to all makes and models of cars\, trucks\, racecars\, and motorcycles
LOCATION:Howard Street in downtown Greenwood
UID:e.2769.1018
SEQUENCE:3
DTSTAMP:20260422T160308Z
URL:https://business.greenwoodmschamber.com/events/details/driving-the-delta-vintage-car-show-1018
END:VEVENT

END:VCALENDAR
