BEGIN:VCALENDAR
VERSION:2.0
PRODID:-//ChamberMaster//Event Calendar 2.0//EN
METHOD:PUBLISH
X-PUBLISHED-TTL:P3D
REFRESH-INTERVAL:P3D
CALSCALE:GREGORIAN
BEGIN:VEVENT
DTSTART:20251007T133000Z
DTEND:20251007T170000Z
X-MICROSOFT-CDO-ALLDAYEVENT:FALSE
SUMMARY:Glenn Shepard Seminar
DESCRIPTION:"How to Supervise People and Lead a Team"\n\n\n\nThis is a world class professional development course designed directors and supervisors who directly manage two or more employees. \n\nYou'll learn where to find and how to attract good employees in a tight labor market\, how to motivate people\, manage Millennials and Gen Z employees\, get people to stay\, manage problem employees\, eliminate office politics\, and much more.
X-ALT-DESC;FMTTYPE=text/html:<span style="background:white\;"><span style="color:black\;"><span style="font-size:13.0pt\;">&quot\;How to Supervise People and Lead a Team&quot\;<br />\n<br />\nThis is a world class professional development course designed directors and supervisors who directly manage two or more employees.&nbsp\;<br />\nYou&#39\;ll learn where to find and how to attract good employees in a tight labor market\, how to motivate people\, manage Millennials and Gen Z employees\, get people to stay\, manage problem employees\, eliminate office politics\, and much more.</span></span></span>
LOCATION:Staplcotn\, 3rd Floor 214 W. Market Street Greenwood\, MS 38930
UID:e.2769.1026
SEQUENCE:3
DTSTAMP:20260422T155939Z
URL:https://business.greenwoodmschamber.com/events/details/glenn-shepard-seminar-1026
END:VEVENT

END:VCALENDAR
