BEGIN:VCALENDAR
VERSION:2.0
PRODID:-//ChamberMaster//Event Calendar 2.0//EN
METHOD:PUBLISH
X-PUBLISHED-TTL:P3D
REFRESH-INTERVAL:P3D
CALSCALE:GREGORIAN
BEGIN:VEVENT
DTSTART:20250904T163000Z
DTEND:20250904T230000Z
X-MICROSOFT-CDO-ALLDAYEVENT:FALSE
SUMMARY:Greenwood Exchange Club Four Man Scramble
DESCRIPTION:Greenwood Exchange Club Four Man Scramble Golf Tournament Fueled by Scott Petroleum Thursday\, September 4 at the Greenwood Country Club Tee Time is 1:00PM
X-ALT-DESC;FMTTYPE=text/html:Greenwood Exchange Club Four Man Scramble Golf Tournament Fueled by Scott Petroleum Thursday\, September 4 at the Greenwood Country Club Tee Time is 1:00PM
LOCATION:Greenwood Country Club
UID:e.2769.1024
SEQUENCE:3
DTSTAMP:20260422T172302Z
URL:https://business.greenwoodmschamber.com/events/details/greenwood-exchange-club-four-man-scramble-09-04-2025-1024
END:VEVENT

END:VCALENDAR
