BEGIN:VCALENDAR
VERSION:2.0
PRODID:-//ChamberMaster//Event Calendar 2.0//EN
METHOD:PUBLISH
X-PUBLISHED-TTL:P3D
REFRESH-INTERVAL:P3D
CALSCALE:GREGORIAN
BEGIN:VEVENT
DTSTART:20250426T140000Z
DTEND:20250426T200000Z
X-MICROSOFT-CDO-ALLDAYEVENT:FALSE
SUMMARY:Greenwood Spring Market
DESCRIPTION:Around 30 vendors from Greenwood and surrounding Delta cities host a Greenwood Spring Market.
X-ALT-DESC;FMTTYPE=text/html:Around 30 vendors from Greenwood and surrounding Delta cities host a Greenwood Spring Market.
LOCATION:Old City Hall
UID:e.2769.998
SEQUENCE:3
DTSTAMP:20260422T230643Z
URL:https://business.greenwoodmschamber.com/events/details/greenwood-spring-market-998
END:VEVENT

END:VCALENDAR
