BEGIN:VCALENDAR
VERSION:2.0
PRODID:-//ChamberMaster//Event Calendar 2.0//EN
METHOD:PUBLISH
X-PUBLISHED-TTL:P3D
REFRESH-INTERVAL:P3D
CALSCALE:GREGORIAN
BEGIN:VEVENT
DTSTART:20250628T150000Z
DTEND:20250628T200000Z
X-MICROSOFT-CDO-ALLDAYEVENT:FALSE
SUMMARY:Healing Retreat
DESCRIPTION:Healing Retreat presented by Dr. Sheryl Jones and Ms. Joyce Pellergrin. A light lunch will be served.
X-ALT-DESC;FMTTYPE=text/html:Healing Retreat presented by Dr. Sheryl Jones and Ms. Joyce Pellergrin. A light lunch will be served.
LOCATION:Locus Benedictus Retreat Center 1407 Levee Rd. Greenwood\, MS 38930
UID:e.2769.592
SEQUENCE:3
DTSTAMP:20260422T204726Z
URL:https://business.greenwoodmschamber.com/events/details/healing-retreat-592
END:VEVENT

END:VCALENDAR
