BEGIN:VCALENDAR
VERSION:2.0
PRODID:-//ChamberMaster//Event Calendar 2.0//EN
METHOD:PUBLISH
X-PUBLISHED-TTL:P3D
REFRESH-INTERVAL:P3D
CALSCALE:GREGORIAN
BEGIN:VEVENT
DTSTART:20251115T150000Z
DTEND:20251115T200000Z
X-MICROSOFT-CDO-ALLDAYEVENT:FALSE
SUMMARY:Holiday Bazaar
DESCRIPTION:Locus Benedictus 3rd Annual Holiday Bazaar
X-ALT-DESC;FMTTYPE=text/html:Locus Benedictus 3rd Annual Holiday Bazaar
LOCATION:Locus Benedictus Retreat Center 1407 Levee Rd. Greenwood\, MS 38930
UID:e.2769.996
SEQUENCE:3
DTSTAMP:20260422T155902Z
URL:https://business.greenwoodmschamber.com/events/details/holiday-bazaar-996
END:VEVENT

END:VCALENDAR
