BEGIN:VCALENDAR
VERSION:2.0
PRODID:-//ChamberMaster//Event Calendar 2.0//EN
METHOD:PUBLISH
X-PUBLISHED-TTL:P3D
REFRESH-INTERVAL:P3D
CALSCALE:GREGORIAN
BEGIN:VEVENT
DTSTART:20261105T230000Z
DTEND:20261108T020000Z
X-MICROSOFT-CDO-ALLDAYEVENT:FALSE
SUMMARY:Holiday Open House
DESCRIPTION:
X-ALT-DESC;FMTTYPE=text/html:
LOCATION:
UID:e.2769.1062
SEQUENCE:3
DTSTAMP:20260422T171104Z
URL:https://business.greenwoodmschamber.com/events/details/holiday-open-house-11-05-2026-1062
END:VEVENT

END:VCALENDAR
