BEGIN:VCALENDAR
VERSION:2.0
PRODID:-//ChamberMaster//Event Calendar 2.0//EN
METHOD:PUBLISH
X-PUBLISHED-TTL:P3D
REFRESH-INTERVAL:P3D
CALSCALE:GREGORIAN
BEGIN:VEVENT
DTSTART:20250329T180000Z
DTEND:20250329T200000Z
X-MICROSOFT-CDO-ALLDAYEVENT:FALSE
SUMMARY:Human Trafficking Seminar
DESCRIPTION:The ladies of Zeta Phi Beta Sorority\, Incorporated Theta Pi Zeta Chapter will host a seminar on human trafficking -- what you should do if you suspect it and how you can identify it.
X-ALT-DESC;FMTTYPE=text/html:The ladies of Zeta Phi Beta Sorority\, Incorporated Theta Pi Zeta Chapter will host a seminar on human trafficking -- what you should do if you suspect it and how you can identify it.
LOCATION:Greenwood Community Center
UID:e.2769.553
SEQUENCE:3
DTSTAMP:20260425T122144Z
URL:https://business.greenwoodmschamber.com/events/details/human-trafficking-seminar-553
END:VEVENT

END:VCALENDAR
