BEGIN:VCALENDAR
VERSION:2.0
PRODID:-//ChamberMaster//Event Calendar 2.0//EN
METHOD:PUBLISH
X-PUBLISHED-TTL:P3D
REFRESH-INTERVAL:P3D
CALSCALE:GREGORIAN
BEGIN:VEVENT
DTSTART:20250905T000000Z
DTEND:20250905T023000Z
X-MICROSOFT-CDO-ALLDAYEVENT:FALSE
SUMMARY:HUSH PUPPY MUSIC CO-OP
DESCRIPTION:LIVE MUSIC CONCERT featuring Cary Hudson + Dan Raza
X-ALT-DESC;FMTTYPE=text/html:LIVE MUSIC CONCERT featuring Cary Hudson + Dan Raza
LOCATION:Old City Hall 121 Main St
UID:e.2769.1025
SEQUENCE:3
DTSTAMP:20260422T172114Z
URL:https://business.greenwoodmschamber.com/events/details/hush-puppy-music-co-op-1025
END:VEVENT

END:VCALENDAR
