BEGIN:VCALENDAR
VERSION:2.0
PRODID:-//ChamberMaster//Event Calendar 2.0//EN
METHOD:PUBLISH
X-PUBLISHED-TTL:P3D
REFRESH-INTERVAL:P3D
CALSCALE:GREGORIAN
BEGIN:VEVENT
DTSTART:20251219T220000Z
DTEND:20251220T020000Z
X-MICROSOFT-CDO-ALLDAYEVENT:FALSE
SUMMARY:Ice Ice Baby
DESCRIPTION:Ice skating\, go carts\, vendors and food trucks
X-ALT-DESC;FMTTYPE=text/html:Ice skating\, go carts\, vendors and food trucks
LOCATION:Rail Spike Pavilion
UID:e.2769.1042
SEQUENCE:3
DTSTAMP:20260422T135112Z
URL:https://business.greenwoodmschamber.com/events/details/ice-ice-baby-1042
END:VEVENT

END:VCALENDAR
