BEGIN:VCALENDAR
VERSION:2.0
PRODID:-//ChamberMaster//Event Calendar 2.0//EN
METHOD:PUBLISH
X-PUBLISHED-TTL:P3D
REFRESH-INTERVAL:P3D
CALSCALE:GREGORIAN
BEGIN:VEVENT
DTSTART:20270318T230000Z
DTEND:20270319T000000Z
X-MICROSOFT-CDO-ALLDAYEVENT:FALSE
SUMMARY:Life's Struggles
DESCRIPTION:Support group for anyone struggling with depression\, recovering addict\, divorce\, financial problems\, etc.
X-ALT-DESC;FMTTYPE=text/html:Support group for anyone struggling with depression\, recovering addict\, divorce\, financial problems\, etc.
LOCATION:Locus Benedictus Retreat Center 1407 Levee Rd. Greenwood\, MS 38930
UID:e.2769.692
SEQUENCE:3
DTSTAMP:20260422T220910Z
URL:https://business.greenwoodmschamber.com/events/details/life-s-struggles-03-18-2027-692
END:VEVENT

END:VCALENDAR
