BEGIN:VCALENDAR
VERSION:2.0
PRODID:-//ChamberMaster//Event Calendar 2.0//EN
METHOD:PUBLISH
X-PUBLISHED-TTL:P3D
REFRESH-INTERVAL:P3D
CALSCALE:GREGORIAN
BEGIN:VEVENT
DTSTART:20250508T230000Z
DTEND:20250509T000000Z
X-MICROSOFT-CDO-ALLDAYEVENT:FALSE
SUMMARY:Life's Struggles
DESCRIPTION:Support Group for anyone struggling with issues in life.
X-ALT-DESC;FMTTYPE=text/html:Support Group for anyone struggling with issues in life.
LOCATION:Locus Benedictus 1407 Levee Rd. Greenwood\, MS 38930
UID:e.2769.580
SEQUENCE:3
DTSTAMP:20260422T215031Z
URL:https://business.greenwoodmschamber.com/events/details/life-s-struggles-05-08-2025-580
END:VEVENT

END:VCALENDAR
