BEGIN:VCALENDAR
VERSION:2.0
PRODID:-//ChamberMaster//Event Calendar 2.0//EN
METHOD:PUBLISH
X-PUBLISHED-TTL:P3D
REFRESH-INTERVAL:P3D
CALSCALE:GREGORIAN
BEGIN:VEVENT
DTSTART:20250307T000000Z
DTEND:20250307T010000Z
X-MICROSOFT-CDO-ALLDAYEVENT:FALSE
SUMMARY:Life's Struggles Support Group
DESCRIPTION:Support Group for those going through Divorce\, Drug/Alcohol Rebha\, Financial problems\, depression\, any type of life struggles.
X-ALT-DESC;FMTTYPE=text/html:Support Group for those going through Divorce\, Drug/Alcohol Rebha\, Financial problems\, depression\, any type of life struggles.
LOCATION:Locus Benedictus 1407 Levee Rd. Greenwood\, MS 38930
UID:e.2769.546
SEQUENCE:3
DTSTAMP:20260425T122123Z
URL:https://business.greenwoodmschamber.com/events/details/life-s-struggles-support-group-03-06-2025-546
END:VEVENT

END:VCALENDAR
