BEGIN:VCALENDAR
VERSION:2.0
PRODID:-//ChamberMaster//Event Calendar 2.0//EN
METHOD:PUBLISH
X-PUBLISHED-TTL:P3D
REFRESH-INTERVAL:P3D
CALSCALE:GREGORIAN
BEGIN:VEVENT
DTSTART:20250320T230000Z
DTEND:20250321T000000Z
X-MICROSOFT-CDO-ALLDAYEVENT:FALSE
SUMMARY:Life's Struggles Support Group
DESCRIPTION:Support Group for those struggling with life such as depression\, divorce\, drug/alcohol rehab\, loneliness\, etc.
X-ALT-DESC;FMTTYPE=text/html:Support Group for those struggling with life such as depression\, divorce\, drug/alcohol rehab\, loneliness\, etc.
LOCATION:Locus Benedictus Retreat Center 1407 Levee Rd. Greenwood\, MS 38930
UID:e.2769.557
SEQUENCE:3
DTSTAMP:20260425T122118Z
URL:https://business.greenwoodmschamber.com/events/details/life-s-struggles-support-group-03-20-2025-557
END:VEVENT

END:VCALENDAR
