BEGIN:VCALENDAR
VERSION:2.0
PRODID:-//ChamberMaster//Event Calendar 2.0//EN
METHOD:PUBLISH
X-PUBLISHED-TTL:P3D
REFRESH-INTERVAL:P3D
CALSCALE:GREGORIAN
BEGIN:VEVENT
DTSTART:20250327T230000Z
DTEND:20250328T000000Z
X-MICROSOFT-CDO-ALLDAYEVENT:FALSE
SUMMARY:Life's Struggles Support Group
DESCRIPTION:Support Group for those struggling with divorce\, depression\, grief\, addictions\, relationships.
X-ALT-DESC;FMTTYPE=text/html:Support Group for those struggling with divorce\, depression\, grief\, addictions\, relationships.
LOCATION:Locus Benedictus 1407 Levee Rd. Greenwood\, MS 38930
UID:e.2769.560
SEQUENCE:3
DTSTAMP:20260425T122121Z
URL:https://business.greenwoodmschamber.com/events/details/life-s-struggles-support-group-03-27-2025-560
END:VEVENT

END:VCALENDAR
