BEGIN:VCALENDAR
VERSION:2.0
PRODID:-//ChamberMaster//Event Calendar 2.0//EN
METHOD:PUBLISH
X-PUBLISHED-TTL:P3D
REFRESH-INTERVAL:P3D
CALSCALE:GREGORIAN
BEGIN:VEVENT
DTSTART:20250403T230000Z
DTEND:20250404T000000Z
X-MICROSOFT-CDO-ALLDAYEVENT:FALSE
SUMMARY:Life Struggles Support Group
DESCRIPTION:Support group for those suffering from divorce\, depression\, anxiety\, relationships\, addictions
X-ALT-DESC;FMTTYPE=text/html:Support group for those suffering from divorce\, depression\, anxiety\, relationships\, addictions
LOCATION:Locus Benedictus 1407 Levee Rd. Greenwood\, MS 38930
UID:e.2769.562
SEQUENCE:3
DTSTAMP:20260422T230128Z
URL:https://business.greenwoodmschamber.com/events/details/life-struggles-support-group-562
END:VEVENT

END:VCALENDAR
