BEGIN:VCALENDAR
VERSION:2.0
PRODID:-//ChamberMaster//Event Calendar 2.0//EN
METHOD:PUBLISH
X-PUBLISHED-TTL:P3D
REFRESH-INTERVAL:P3D
CALSCALE:GREGORIAN
BEGIN:VEVENT
DTSTART:20250811T230000Z
DTEND:20250812T000000Z
X-MICROSOFT-CDO-ALLDAYEVENT:FALSE
SUMMARY:Lions for Lambs
DESCRIPTION:Mentoring Group for Young Men 7th-12th grade.
X-ALT-DESC;FMTTYPE=text/html:Mentoring Group for Young Men 7th-12th grade.
LOCATION:Locus Benedictus Retreat Center 1407 Levee Rd. Greenwood\, MS 38930
UID:e.2769.1016
SEQUENCE:3
DTSTAMP:20260422T183619Z
URL:https://business.greenwoodmschamber.com/events/details/lions-for-lambs-08-11-2025-1016
END:VEVENT

END:VCALENDAR
