BEGIN:VCALENDAR
VERSION:2.0
PRODID:-//ChamberMaster//Event Calendar 2.0//EN
METHOD:PUBLISH
X-PUBLISHED-TTL:P3D
REFRESH-INTERVAL:P3D
CALSCALE:GREGORIAN
BEGIN:VEVENT
DTSTART:20251013T230000Z
DTEND:20251014T003000Z
X-MICROSOFT-CDO-ALLDAYEVENT:FALSE
SUMMARY:Lions for Lambs
DESCRIPTION:Boys Mentoring group ages 7th - 12th grade.
X-ALT-DESC;FMTTYPE=text/html:Boys Mentoring group ages 7th - 12th grade.
LOCATION:Locus Benedictus Retreat Center 1407 Levee Road Greenwood\, MS
UID:e.2769.1029
SEQUENCE:3
DTSTAMP:20260422T160302Z
URL:https://business.greenwoodmschamber.com/events/details/lions-for-lambs-10-13-2025-1029
END:VEVENT

END:VCALENDAR
