BEGIN:VCALENDAR
VERSION:2.0
PRODID:-//ChamberMaster//Event Calendar 2.0//EN
METHOD:PUBLISH
X-PUBLISHED-TTL:P3D
REFRESH-INTERVAL:P3D
CALSCALE:GREGORIAN
BEGIN:VEVENT
DTSTART:20251111T000000Z
DTEND:20251111T013000Z
X-MICROSOFT-CDO-ALLDAYEVENT:FALSE
SUMMARY:Lions for Lambs
DESCRIPTION:Boys age 7th-12th grade - Mentoring Group
X-ALT-DESC;FMTTYPE=text/html:Boys age 7th-12th grade - Mentoring Group
LOCATION:Locus Benedictus Retreat Center 1407 Levee Rd. Greenwood\, MS 38930
UID:e.2769.1039
SEQUENCE:3
DTSTAMP:20260422T150343Z
URL:https://business.greenwoodmschamber.com/events/details/lions-for-lambs-11-10-2025-1039
END:VEVENT

END:VCALENDAR
