BEGIN:VCALENDAR
VERSION:2.0
PRODID:-//ChamberMaster//Event Calendar 2.0//EN
METHOD:PUBLISH
X-PUBLISHED-TTL:P3D
REFRESH-INTERVAL:P3D
CALSCALE:GREGORIAN
BEGIN:VEVENT
DTSTART:20250304T000000Z
DTEND:20250304T013000Z
X-MICROSOFT-CDO-ALLDAYEVENT:FALSE
SUMMARY:Lions for Lambs
DESCRIPTION:Mentoring Group for Young Men ages 12-18
X-ALT-DESC;FMTTYPE=text/html:Mentoring Group for Young Men ages 12-18
LOCATION:Locus Benedictus 1407 Levee Rd. Greenwood\, MS 38930
UID:e.2769.544
SEQUENCE:3
DTSTAMP:20260425T122003Z
URL:https://business.greenwoodmschamber.com/events/details/lions-for-lambs-544
END:VEVENT

END:VCALENDAR
