BEGIN:VCALENDAR
VERSION:2.0
PRODID:-//ChamberMaster//Event Calendar 2.0//EN
METHOD:PUBLISH
X-PUBLISHED-TTL:P3D
REFRESH-INTERVAL:P3D
CALSCALE:GREGORIAN
BEGIN:VEVENT
DTSTART:20250619T233000Z
DTEND:20250620T020000Z
X-MICROSOFT-CDO-ALLDAYEVENT:FALSE
SUMMARY:Live music from Super Chikan + Ryan Lee Crosby
DESCRIPTION:Hush Puppy Music Co-op and Mississippi Valley State University present an all-ages free community event to highlight the Mississippi Delta Blues and celebrate Juneteenth. The show will take place at the Museum of the Mississippi Delta where a traveling guitar exhibit called "America at the Crossroads" will be on display. Doors will open at 6:30pm. At 7 pm Ryan Lee Crosby\, a musical apprentice of Mississippi's Jimmy Duck Holmes\, will perform an opening set. Following this\, James "Super Chikan" Johnson will perform his songs and discuss his guitar making. This event is made possible with support from Mississippi Valley State University's River and Land Project\, funded by the Mississippi Delta National Heritage Area\, with additional support from the Museum of the Mississippi Delta and the Hush Puppy Music Co-op.
X-ALT-DESC;FMTTYPE=text/html:Hush Puppy Music Co-op and Mississippi Valley State University present an all-ages free community event to highlight the Mississippi Delta Blues and celebrate Juneteenth. The show will take place at the Museum of the Mississippi Delta where a traveling guitar exhibit called &ldquo\;America at the Crossroads&rdquo\; will be on display. Doors will open at 6:30pm. At 7 pm Ryan Lee Crosby\, a musical apprentice of Mississippi&rsquo\;s Jimmy Duck Holmes\, will perform an opening set. Following this\, James &ldquo\;Super Chikan&rdquo\; Johnson will perform his songs and discuss his guitar making. This event is made possible with support from Mississippi Valley State University&rsquo\;s River and Land Project\, funded by the Mississippi Delta National Heritage Area\, with additional support from the Museum of the Mississippi Delta and the Hush Puppy Music Co-op.
LOCATION:Museum of the Mississippi Delta 1608 US-82\, Greenwood\, MS 38930
UID:e.2769.1008
SEQUENCE:3
DTSTAMP:20260422T205059Z
URL:https://business.greenwoodmschamber.com/events/details/live-music-from-super-chikan-ryan-lee-crosby-1008
END:VEVENT

END:VCALENDAR
