BEGIN:VCALENDAR
VERSION:2.0
PRODID:-//ChamberMaster//Event Calendar 2.0//EN
METHOD:PUBLISH
X-PUBLISHED-TTL:P3D
REFRESH-INTERVAL:P3D
CALSCALE:GREGORIAN
BEGIN:VEVENT
DTSTART:20250803T000000Z
DTEND:20250803T045500Z
X-MICROSOFT-CDO-ALLDAYEVENT:FALSE
SUMMARY:Love Laugh & Dance
DESCRIPTION:Need something fun to do? Join us for an evening of Comedy and Music Featuring the comedy stylings of Rita Brent\, Nardo Blackmon\, Merc B. J. Fizzle\, Mo Eazy and the music of Tre Williams and Twurt Chamberlain. Advanced tickets are $20 and VIP Tables are $50. Tickets and tables can be purchased at https://www.eventbrite.com/.../lough-laugh-and-dance... Ticket Outlets: Civic Center Box Office and Tracy Shoe Shop in Greenwood\, Disco Den in Greenville and Wilson Electronics in Grenada.
X-ALT-DESC;FMTTYPE=text/html:Need something fun to do? Join us for an evening of Comedy and Music Featuring the comedy stylings of Rita Brent\, Nardo Blackmon\, Merc B. J. Fizzle\, Mo Eazy and the music of Tre Williams and Twurt Chamberlain. Advanced tickets are $20 and VIP Tables are $50. Tickets and tables can be purchased at https://www.eventbrite.com/.../lough-laugh-and-dance... Ticket Outlets: Civic Center Box Office and Tracy Shoe Shop in Greenwood\, Disco Den in Greenville and Wilson Electronics in Grenada.
LOCATION:Greenwood Leflore Civic Center
UID:e.2769.1009
SEQUENCE:3
DTSTAMP:20260422T183152Z
URL:https://business.greenwoodmschamber.com/events/details/love-laugh-dance-1009
END:VEVENT

END:VCALENDAR
