BEGIN:VCALENDAR
VERSION:2.0
PRODID:-//ChamberMaster//Event Calendar 2.0//EN
METHOD:PUBLISH
X-PUBLISHED-TTL:P3D
REFRESH-INTERVAL:P3D
CALSCALE:GREGORIAN
BEGIN:VEVENT
DTSTART:20250414T160000Z
DTEND:20250415T000000Z
X-MICROSOFT-CDO-ALLDAYEVENT:FALSE
SUMMARY:Madeline's House Fundraiser
DESCRIPTION:DePaul USA Fundraiser for Madeline's Transition Home Catfish Plates $15.00 April 14\, 2025 11:00-1:30 4:00-7:00 Tickets available 601-397-0960 or in person take out / donations accepted
X-ALT-DESC;FMTTYPE=text/html:DePaul USA Fundraiser for Madeline&#39\;s Transition Home Catfish Plates $15.00 April 14\, 2025 11:00-1:30 4:00-7:00 Tickets available 601-397-0960 or in person take out / donations accepted
LOCATION:Greenwood Marketplace 410 W Park Ave.
UID:e.2769.554
SEQUENCE:3
DTSTAMP:20260422T230329Z
URL:https://business.greenwoodmschamber.com/events/details/madeline-s-house-fundraiser-554
END:VEVENT

END:VCALENDAR
