BEGIN:VCALENDAR
VERSION:2.0
PRODID:-//ChamberMaster//Event Calendar 2.0//EN
METHOD:PUBLISH
X-PUBLISHED-TTL:P3D
REFRESH-INTERVAL:P3D
CALSCALE:GREGORIAN
BEGIN:VEVENT
DTSTART;VALUE=DATE:20250502
DTEND;VALUE=DATE:20250504
TRANSP:TRANSPARENT
X-MICROSOFT-CDO-ALLDAYEVENT:TRUE
SUMMARY:Que on the Yazoo
DESCRIPTION:Que on the Yazoo is Main Street's annual BBQ Festival. This event is sanctioned by the Memphis Barbecue Network and will feature live music\, food vendors\, arts & craft vendors and a kids zone\, in addition to the Pro and Patio BBQ Competition.
X-ALT-DESC;FMTTYPE=text/html:Que on the Yazoo is Main Street&#39\;s annual BBQ Festival. This event is sanctioned by the Memphis Barbecue Network and will feature live music\, food vendors\, arts &amp\; craft vendors and a kids zone\, in addition to the Pro and Patio BBQ Competition.
LOCATION:Downtown Greenwood
UID:e.2769.551
SEQUENCE:3
DTSTAMP:20260422T214924Z
URL:https://business.greenwoodmschamber.com/events/details/que-on-the-yazoo-551
END:VEVENT

END:VCALENDAR
