BEGIN:VCALENDAR
VERSION:2.0
PRODID:-//ChamberMaster//Event Calendar 2.0//EN
METHOD:PUBLISH
X-PUBLISHED-TTL:P3D
REFRESH-INTERVAL:P3D
CALSCALE:GREGORIAN
BEGIN:VEVENT
DTSTART:20250823T230000Z
DTEND:20250824T040000Z
X-MICROSOFT-CDO-ALLDAYEVENT:FALSE
SUMMARY:Ramcat Rhythm & Brews
DESCRIPTION:Mark your calendars and bring your thirst! Ramcat Rhythm & Brews is back on Saturday\, August 23rd   live music\, cold beer\, and good vibes only!
X-ALT-DESC;FMTTYPE=text/html:Mark your calendars and bring your thirst! Ramcat Rhythm &amp\; Brews is back on Saturday\, August 23rd &mdash\; live music\, cold beer\, and good vibes only!
LOCATION:Ramcat Alley\, Greenwood\, MS 38930\, United States
UID:e.2769.1017
SEQUENCE:3
DTSTAMP:20260422T182716Z
URL:https://business.greenwoodmschamber.com/events/details/ramcat-rhythm-brews-1017
END:VEVENT

END:VCALENDAR
