BEGIN:VCALENDAR
VERSION:2.0
PRODID:-//ChamberMaster//Event Calendar 2.0//EN
METHOD:PUBLISH
X-PUBLISHED-TTL:P3D
REFRESH-INTERVAL:P3D
CALSCALE:GREGORIAN
BEGIN:VEVENT
DTSTART:20250426T180000Z
DTEND:20250426T210000Z
X-MICROSOFT-CDO-ALLDAYEVENT:FALSE
SUMMARY:Relay for Life Mahjong Game
DESCRIPTION:Playing Mahjong with others in the Delta as we raise funds for the American Cancer Society. This event is as close as we could get to National Mahjong Day.
X-ALT-DESC;FMTTYPE=text/html:Playing Mahjong with others in the Delta as we raise funds for the American Cancer Society. This event is as close as we could get to National Mahjong Day.
LOCATION:Our Lady of Victories 215 Bishop Road Cleveland\, MS 38732
UID:e.2769.583
SEQUENCE:3
DTSTAMP:20260422T230645Z
URL:https://business.greenwoodmschamber.com/events/details/relay-for-life-mahjong-game-583
END:VEVENT

END:VCALENDAR
