BEGIN:VCALENDAR
VERSION:2.0
PRODID:-//ChamberMaster//Event Calendar 2.0//EN
METHOD:PUBLISH
X-PUBLISHED-TTL:P3D
REFRESH-INTERVAL:P3D
CALSCALE:GREGORIAN
BEGIN:VEVENT
DTSTART:20250319T150000Z
DTEND:20250319T190000Z
X-MICROSOFT-CDO-ALLDAYEVENT:FALSE
SUMMARY:Respite for Caregivers - Special Seniors
DESCRIPTION:Respite for Caregivers Drop off your loved one and we will occupy their time with fellowship\, food\, crafts\, music and a devotional.
X-ALT-DESC;FMTTYPE=text/html:Respite for Caregivers Drop off your loved one and we will occupy their time with fellowship\, food\, crafts\, music and a devotional.
LOCATION:Locus Benedictus Retreat Center 1407 Levee Road Greenwood\, MS 38930
UID:e.2769.555
SEQUENCE:3
DTSTAMP:20260425T122531Z
URL:https://business.greenwoodmschamber.com/events/details/respite-for-caregivers-special-seniors-555
END:VEVENT

END:VCALENDAR
