BEGIN:VCALENDAR
VERSION:2.0
PRODID:-//ChamberMaster//Event Calendar 2.0//EN
METHOD:PUBLISH
X-PUBLISHED-TTL:P3D
REFRESH-INTERVAL:P3D
CALSCALE:GREGORIAN
BEGIN:VEVENT
DTSTART:20250802T180000Z
DTEND:20250802T203000Z
X-MICROSOFT-CDO-ALLDAYEVENT:FALSE
SUMMARY:Revenge of da Nerds
DESCRIPTION:Parents! Make sure your child is in the building! Grades 7 through 12. Come get this road map to success from some people that went to those same schools that y'all attend now. Featured Speakers: Lamar Buchanan - Pilot United Airlines\, Dr. Alix Sanders - Dentist\, Attorney Royce Allen\, MS AG Office Dr. Natasha Hardeman OB-Gyn\, Jermaine Whitehead CPA/ NFL Player\, Attorney Abe McGlothin\, US Attorney Dwanna Stanley\, Real Estate Mogul Kwame Moore Entrepreneur.
X-ALT-DESC;FMTTYPE=text/html:Parents! Make sure your child is in the building! Grades 7 through 12. Come get this road map to success from some people that went to those same schools that y&rsquo\;all attend now. Featured Speakers: Lamar Buchanan - Pilot United Airlines\, Dr. Alix Sanders - Dentist\, Attorney Royce Allen\, MS AG Office Dr. Natasha Hardeman OB-Gyn\, Jermaine Whitehead CPA/ NFL Player\, Attorney Abe McGlothin\, US Attorney Dwanna Stanley\, Real Estate Mogul Kwame Moore Entrepreneur.
LOCATION:Greenwood Leflore Civic Center
UID:e.2769.1010
SEQUENCE:3
DTSTAMP:20260422T183509Z
URL:https://business.greenwoodmschamber.com/events/details/revenge-of-da-nerds-1010
END:VEVENT

END:VCALENDAR
