BEGIN:VCALENDAR
VERSION:2.0
PRODID:-//ChamberMaster//Event Calendar 2.0//EN
METHOD:PUBLISH
X-PUBLISHED-TTL:P3D
REFRESH-INTERVAL:P3D
CALSCALE:GREGORIAN
BEGIN:VEVENT
DTSTART:20250320T213000Z
DTEND:20250321T000000Z
X-MICROSOFT-CDO-ALLDAYEVENT:FALSE
SUMMARY:Rosé the Night Away
DESCRIPTION:Sip\, shop\, and celebrate the start of spring with your favorite local businesses. Stroll through downtown\, enjoy exclusive shopping\, and savor a variety of perfectly chilled ros  as we toast to longer days and warmer nights!
X-ALT-DESC;FMTTYPE=text/html:Sip\, shop\, and celebrate the start of spring with your favorite local businesses. Stroll through downtown\, enjoy exclusive shopping\, and savor a variety of perfectly chilled ros&eacute\; as we toast to longer days and warmer nights!
LOCATION:Downtown Greenwood
UID:e.2769.550
SEQUENCE:3
DTSTAMP:20260425T122234Z
URL:https://business.greenwoodmschamber.com/events/details/ros&#233;-the-night-away-550
END:VEVENT

END:VCALENDAR
